BEGIN:VCALENDAR
VERSION:2.0
PRODID:-//Yateley Archers - ECPv6.15.20//NONSGML v1.0//EN
CALSCALE:GREGORIAN
METHOD:PUBLISH
X-WR-CALNAME:Yateley Archers
X-ORIGINAL-URL:https://yateleyarchers.org.uk
X-WR-CALDESC:Events for Yateley Archers
REFRESH-INTERVAL;VALUE=DURATION:PT1H
X-Robots-Tag:noindex
X-PUBLISHED-TTL:PT1H
BEGIN:VTIMEZONE
TZID:Europe/London
BEGIN:DAYLIGHT
TZOFFSETFROM:+0000
TZOFFSETTO:+0100
TZNAME:BST
DTSTART:20220327T010000
END:DAYLIGHT
BEGIN:STANDARD
TZOFFSETFROM:+0100
TZOFFSETTO:+0000
TZNAME:GMT
DTSTART:20221030T010000
END:STANDARD
BEGIN:DAYLIGHT
TZOFFSETFROM:+0000
TZOFFSETTO:+0100
TZNAME:BST
DTSTART:20230326T010000
END:DAYLIGHT
BEGIN:STANDARD
TZOFFSETFROM:+0100
TZOFFSETTO:+0000
TZNAME:GMT
DTSTART:20231029T010000
END:STANDARD
BEGIN:DAYLIGHT
TZOFFSETFROM:+0000
TZOFFSETTO:+0100
TZNAME:BST
DTSTART:20240331T010000
END:DAYLIGHT
BEGIN:STANDARD
TZOFFSETFROM:+0100
TZOFFSETTO:+0000
TZNAME:GMT
DTSTART:20241027T010000
END:STANDARD
END:VTIMEZONE
BEGIN:VEVENT
DTSTART;TZID=Europe/London:20231203T140000
DTEND;TZID=Europe/London:20231203T170000
DTSTAMP:20260422T204236
CREATED:20230928T072222Z
LAST-MODIFIED:20230928T072222Z
UID:6364-1701612000-1701622800@yateleyarchers.org.uk
SUMMARY:Portsmouth
DESCRIPTION:Postal League Round
URL:https://yateleyarchers.org.uk/programme/portsmouth-6/
END:VEVENT
BEGIN:VEVENT
DTSTART;TZID=Europe/London:20231210T140000
DTEND;TZID=Europe/London:20231210T170000
DTSTAMP:20260422T204236
CREATED:20230928T072238Z
LAST-MODIFIED:20230928T075251Z
UID:6369-1702216800-1702227600@yateleyarchers.org.uk
SUMMARY:Worcester
DESCRIPTION:Lyne Akres Trophy
URL:https://yateleyarchers.org.uk/programme/worcester-2/
END:VEVENT
BEGIN:VEVENT
DTSTART;TZID=Europe/London:20231217T140000
DTEND;TZID=Europe/London:20231217T170000
DTSTAMP:20260422T204236
CREATED:20230928T072238Z
LAST-MODIFIED:20230928T072238Z
UID:6370-1702821600-1702832400@yateleyarchers.org.uk
SUMMARY:Portsmouth
DESCRIPTION:
URL:https://yateleyarchers.org.uk/programme/portsmouth-7/
END:VEVENT
END:VCALENDAR