BEGIN:VCALENDAR
VERSION:2.0
PRODID:-//Yateley Archers - ECPv6.15.20//NONSGML v1.0//EN
CALSCALE:GREGORIAN
METHOD:PUBLISH
X-WR-CALNAME:Yateley Archers
X-ORIGINAL-URL:https://yateleyarchers.org.uk
X-WR-CALDESC:Events for Yateley Archers
REFRESH-INTERVAL;VALUE=DURATION:PT1H
X-Robots-Tag:noindex
X-PUBLISHED-TTL:PT1H
BEGIN:VTIMEZONE
TZID:Europe/London
BEGIN:DAYLIGHT
TZOFFSETFROM:+0000
TZOFFSETTO:+0100
TZNAME:BST
DTSTART:20220327T010000
END:DAYLIGHT
BEGIN:STANDARD
TZOFFSETFROM:+0100
TZOFFSETTO:+0000
TZNAME:GMT
DTSTART:20221030T010000
END:STANDARD
BEGIN:DAYLIGHT
TZOFFSETFROM:+0000
TZOFFSETTO:+0100
TZNAME:BST
DTSTART:20230326T010000
END:DAYLIGHT
BEGIN:STANDARD
TZOFFSETFROM:+0100
TZOFFSETTO:+0000
TZNAME:GMT
DTSTART:20231029T010000
END:STANDARD
BEGIN:DAYLIGHT
TZOFFSETFROM:+0000
TZOFFSETTO:+0100
TZNAME:BST
DTSTART:20240331T010000
END:DAYLIGHT
BEGIN:STANDARD
TZOFFSETFROM:+0100
TZOFFSETTO:+0000
TZNAME:GMT
DTSTART:20241027T010000
END:STANDARD
END:VTIMEZONE
BEGIN:VEVENT
DTSTART;TZID=Europe/London:20231105T140000
DTEND;TZID=Europe/London:20231105T170000
DTSTAMP:20260422T221100
CREATED:20230928T072222Z
LAST-MODIFIED:20230928T072222Z
UID:6360-1699192800-1699203600@yateleyarchers.org.uk
SUMMARY:Portsmouth
DESCRIPTION:Postal League Round
URL:https://yateleyarchers.org.uk/programme/portsmouth-5/
END:VEVENT
BEGIN:VEVENT
DTSTART;TZID=Europe/London:20231112T140000
DTEND;TZID=Europe/London:20231112T170000
DTSTAMP:20260422T221100
CREATED:20230928T072222Z
LAST-MODIFIED:20230928T072222Z
UID:6361-1699797600-1699808400@yateleyarchers.org.uk
SUMMARY:Vegas
DESCRIPTION:
URL:https://yateleyarchers.org.uk/programme/vegas/
END:VEVENT
BEGIN:VEVENT
DTSTART;TZID=Europe/London:20231119T140000
DTEND;TZID=Europe/London:20231119T170000
DTSTAMP:20260422T221100
CREATED:20230928T070735Z
LAST-MODIFIED:20230928T072222Z
UID:6348-1700402400-1700413200@yateleyarchers.org.uk
SUMMARY:Portsmouth
DESCRIPTION:
URL:https://yateleyarchers.org.uk/programme/portsmouth-4/
END:VEVENT
BEGIN:VEVENT
DTSTART;TZID=Europe/London:20231126T140000
DTEND;TZID=Europe/London:20231126T170000
DTSTAMP:20260422T221100
CREATED:20230928T072222Z
LAST-MODIFIED:20230928T072222Z
UID:6363-1701007200-1701018000@yateleyarchers.org.uk
SUMMARY:18M FITA
DESCRIPTION:
URL:https://yateleyarchers.org.uk/programme/18m-fita-2/
END:VEVENT
END:VCALENDAR