BEGIN:VCALENDAR
VERSION:2.0
PRODID:-//Yateley Archers - ECPv6.15.20//NONSGML v1.0//EN
CALSCALE:GREGORIAN
METHOD:PUBLISH
X-ORIGINAL-URL:https://yateleyarchers.org.uk
X-WR-CALDESC:Events for Yateley Archers
REFRESH-INTERVAL;VALUE=DURATION:PT1H
X-Robots-Tag:noindex
X-PUBLISHED-TTL:PT1H
BEGIN:VTIMEZONE
TZID:Europe/London
BEGIN:DAYLIGHT
TZOFFSETFROM:+0000
TZOFFSETTO:+0100
TZNAME:BST
DTSTART:20230326T010000
END:DAYLIGHT
BEGIN:STANDARD
TZOFFSETFROM:+0100
TZOFFSETTO:+0000
TZNAME:GMT
DTSTART:20231029T010000
END:STANDARD
BEGIN:DAYLIGHT
TZOFFSETFROM:+0000
TZOFFSETTO:+0100
TZNAME:BST
DTSTART:20240331T010000
END:DAYLIGHT
BEGIN:STANDARD
TZOFFSETFROM:+0100
TZOFFSETTO:+0000
TZNAME:GMT
DTSTART:20241027T010000
END:STANDARD
BEGIN:DAYLIGHT
TZOFFSETFROM:+0000
TZOFFSETTO:+0100
TZNAME:BST
DTSTART:20250330T010000
END:DAYLIGHT
BEGIN:STANDARD
TZOFFSETFROM:+0100
TZOFFSETTO:+0000
TZNAME:GMT
DTSTART:20251026T010000
END:STANDARD
END:VTIMEZONE
BEGIN:VEVENT
DTSTART;TZID=Europe/London:20240421T090000
DTEND;TZID=Europe/London:20240421T130000
DTSTAMP:20260422T234227
CREATED:20240319T200759Z
LAST-MODIFIED:20240319T203334Z
UID:7391-1713690000-1713704400@yateleyarchers.org.uk
SUMMARY:AM Training
DESCRIPTION:
URL:https://yateleyarchers.org.uk/programme/am-training-2/
END:VEVENT
BEGIN:VEVENT
DTSTART;TZID=Europe/London:20240421T130000
DTEND;TZID=Europe/London:20240421T170000
DTSTAMP:20260422T234227
CREATED:20240319T200759Z
LAST-MODIFIED:20240319T203335Z
UID:7390-1713704400-1713718800@yateleyarchers.org.uk
SUMMARY:PM Nationals
DESCRIPTION:
URL:https://yateleyarchers.org.uk/programme/pm-nationals/
END:VEVENT
BEGIN:VEVENT
DTSTART;TZID=Europe/London:20240428T090000
DTEND;TZID=Europe/London:20240428T130000
DTSTAMP:20260422T234227
CREATED:20240319T200801Z
LAST-MODIFIED:20240319T203335Z
UID:7393-1714294800-1714309200@yateleyarchers.org.uk
SUMMARY:AM Training
DESCRIPTION:
URL:https://yateleyarchers.org.uk/programme/am-training-3/
END:VEVENT
BEGIN:VEVENT
DTSTART;TZID=Europe/London:20240428T130000
DTEND;TZID=Europe/London:20240428T170000
DTSTAMP:20260422T234227
CREATED:20240319T203335Z
LAST-MODIFIED:20240319T203335Z
UID:7481-1714309200-1714323600@yateleyarchers.org.uk
SUMMARY:PM Westerns
DESCRIPTION:
URL:https://yateleyarchers.org.uk/programme/pm-westerns-2/
END:VEVENT
BEGIN:VEVENT
DTSTART;TZID=Europe/London:20240505T090000
DTEND;TZID=Europe/London:20240505T130000
DTSTAMP:20260422T234227
CREATED:20240319T200802Z
LAST-MODIFIED:20240319T203336Z
UID:7395-1714899600-1714914000@yateleyarchers.org.uk
SUMMARY:AM Training
DESCRIPTION:
URL:https://yateleyarchers.org.uk/programme/am-training-4/
END:VEVENT
BEGIN:VEVENT
DTSTART;TZID=Europe/London:20240505T130000
DTEND;TZID=Europe/London:20240505T170000
DTSTAMP:20260422T234227
CREATED:20240319T203336Z
LAST-MODIFIED:20240319T203336Z
UID:7482-1714914000-1714928400@yateleyarchers.org.uk
SUMMARY:PM Nationals
DESCRIPTION:
URL:https://yateleyarchers.org.uk/programme/pm-nationals-9/
END:VEVENT
BEGIN:VEVENT
DTSTART;TZID=Europe/London:20240512T090000
DTEND;TZID=Europe/London:20240512T120000
DTSTAMP:20260422T234227
CREATED:20240506T134246Z
LAST-MODIFIED:20240506T134246Z
UID:7784-1715504400-1715515200@yateleyarchers.org.uk
SUMMARY:AM Training
DESCRIPTION:
URL:https://yateleyarchers.org.uk/programme/am-training-9/
END:VEVENT
BEGIN:VEVENT
DTSTART;TZID=Europe/London:20240512T130000
DTEND;TZID=Europe/London:20240512T170000
DTSTAMP:20260422T234227
CREATED:20240319T200802Z
LAST-MODIFIED:20240319T203336Z
UID:7397-1715518800-1715533200@yateleyarchers.org.uk
SUMMARY:Westerns
DESCRIPTION:
URL:https://yateleyarchers.org.uk/programme/westerns/
END:VEVENT
BEGIN:VEVENT
DTSTART;TZID=Europe/London:20240519T130000
DTEND;TZID=Europe/London:20240519T170000
DTSTAMP:20260422T234227
CREATED:20240319T200816Z
LAST-MODIFIED:20240319T203351Z
UID:7398-1716123600-1716138000@yateleyarchers.org.uk
SUMMARY:Nationals
DESCRIPTION:
URL:https://yateleyarchers.org.uk/programme/nationals/
END:VEVENT
BEGIN:VEVENT
DTSTART;TZID=Europe/London:20240526T090000
DTEND;TZID=Europe/London:20240526T130000
DTSTAMP:20260422T234227
CREATED:20240319T200817Z
LAST-MODIFIED:20240319T203351Z
UID:7399-1716714000-1716728400@yateleyarchers.org.uk
SUMMARY:AM York\, Hereford & Bristols
DESCRIPTION:
URL:https://yateleyarchers.org.uk/programme/am-york-hereford-bristols/
END:VEVENT
BEGIN:VEVENT
DTSTART;TZID=Europe/London:20240526T130000
DTEND;TZID=Europe/London:20240526T170000
DTSTAMP:20260422T234227
CREATED:20240319T203351Z
LAST-MODIFIED:20240319T203351Z
UID:7483-1716728400-1716742800@yateleyarchers.org.uk
SUMMARY:PM Nationals
DESCRIPTION:
URL:https://yateleyarchers.org.uk/programme/pm-nationals-10/
END:VEVENT
BEGIN:VEVENT
DTSTART;TZID=Europe/London:20240602T130000
DTEND;TZID=Europe/London:20240602T170000
DTSTAMP:20260422T234227
CREATED:20240319T200817Z
LAST-MODIFIED:20240319T205455Z
UID:7401-1717333200-1717347600@yateleyarchers.org.uk
SUMMARY:Competition: St George\, Albion\, Windsors
DESCRIPTION:Family Couples / Tods Day
URL:https://yateleyarchers.org.uk/programme/st-george-albion-windsors/
END:VEVENT
BEGIN:VEVENT
DTSTART;TZID=Europe/London:20240609T130000
DTEND;TZID=Europe/London:20240609T170000
DTSTAMP:20260422T234227
CREATED:20240319T200817Z
LAST-MODIFIED:20240319T203351Z
UID:7402-1717938000-1717952400@yateleyarchers.org.uk
SUMMARY:St George\, Albion\, Windsors
DESCRIPTION:
URL:https://yateleyarchers.org.uk/programme/st-george-albion-windsors-2/
END:VEVENT
BEGIN:VEVENT
DTSTART;TZID=Europe/London:20240616T130000
DTEND;TZID=Europe/London:20240616T170000
DTSTAMP:20260422T234227
CREATED:20240319T201016Z
LAST-MODIFIED:20240319T203406Z
UID:7403-1718542800-1718557200@yateleyarchers.org.uk
SUMMARY:Nationals
DESCRIPTION:Fathers Day
URL:https://yateleyarchers.org.uk/programme/nationals-2/
END:VEVENT
BEGIN:VEVENT
DTSTART;TZID=Europe/London:20240623T090000
DTEND;TZID=Europe/London:20240623T130000
DTSTAMP:20260422T234227
CREATED:20240319T201016Z
LAST-MODIFIED:20240319T203406Z
UID:7404-1719133200-1719147600@yateleyarchers.org.uk
SUMMARY:AM York\, Hereford & Bristols
DESCRIPTION:
URL:https://yateleyarchers.org.uk/programme/am-york-hereford-bristols-2/
END:VEVENT
BEGIN:VEVENT
DTSTART;TZID=Europe/London:20240623T130000
DTEND;TZID=Europe/London:20240623T170000
DTSTAMP:20260422T234227
CREATED:20240319T203406Z
LAST-MODIFIED:20240319T203406Z
UID:7485-1719147600-1719162000@yateleyarchers.org.uk
SUMMARY:PM Nationals
DESCRIPTION:
URL:https://yateleyarchers.org.uk/programme/pm-nationals-11/
END:VEVENT
BEGIN:VEVENT
DTSTART;TZID=Europe/London:20240630T130000
DTEND;TZID=Europe/London:20240630T170000
DTSTAMP:20260422T234227
CREATED:20240319T201017Z
LAST-MODIFIED:20240319T203406Z
UID:7406-1719752400-1719766800@yateleyarchers.org.uk
SUMMARY:Westerns
DESCRIPTION:
URL:https://yateleyarchers.org.uk/programme/westerns-2/
END:VEVENT
BEGIN:VEVENT
DTSTART;TZID=Europe/London:20240707T090000
DTEND;TZID=Europe/London:20240707T130000
DTSTAMP:20260422T234227
CREATED:20240319T203406Z
LAST-MODIFIED:20240319T205411Z
UID:7486-1720342800-1720357200@yateleyarchers.org.uk
SUMMARY:Competition: Double Nationals Day (AM)
DESCRIPTION:Shoot all day for the competition or just AM or PM but you won’t be in the competition
URL:https://yateleyarchers.org.uk/programme/double-nationals-day-am/
END:VEVENT
BEGIN:VEVENT
DTSTART;TZID=Europe/London:20240707T130000
DTEND;TZID=Europe/London:20240707T170000
DTSTAMP:20260422T234227
CREATED:20240319T203421Z
LAST-MODIFIED:20240319T205434Z
UID:7487-1720357200-1720371600@yateleyarchers.org.uk
SUMMARY:Competition: Double Nationals Day (PM)
DESCRIPTION:Shoot all day for the competition or just AM or PM but you won’t be in the competition
URL:https://yateleyarchers.org.uk/programme/double-nationals-day-pm/
END:VEVENT
BEGIN:VEVENT
DTSTART;TZID=Europe/London:20240714T130000
DTEND;TZID=Europe/London:20240714T170000
DTSTAMP:20260422T234227
CREATED:20240319T201137Z
LAST-MODIFIED:20240319T203421Z
UID:7412-1720962000-1720976400@yateleyarchers.org.uk
SUMMARY:St George\, Albion\, Windsors
DESCRIPTION:
URL:https://yateleyarchers.org.uk/programme/st-george-albion-windsors-3/
END:VEVENT
BEGIN:VEVENT
DTSTART;TZID=Europe/London:20240721T090000
DTEND;TZID=Europe/London:20240721T130000
DTSTAMP:20260422T234227
CREATED:20240319T201137Z
LAST-MODIFIED:20240319T203421Z
UID:7413-1721552400-1721566800@yateleyarchers.org.uk
SUMMARY:AM FITA
DESCRIPTION:
URL:https://yateleyarchers.org.uk/programme/am-fita/
END:VEVENT
BEGIN:VEVENT
DTSTART;TZID=Europe/London:20240721T130000
DTEND;TZID=Europe/London:20240721T170000
DTSTAMP:20260422T234227
CREATED:20240319T203421Z
LAST-MODIFIED:20240319T203421Z
UID:7488-1721566800-1721581200@yateleyarchers.org.uk
SUMMARY:PM Long/Short Metric
DESCRIPTION:
URL:https://yateleyarchers.org.uk/programme/pm-long-short-metric-2/
END:VEVENT
BEGIN:VEVENT
DTSTART;TZID=Europe/London:20240728T130000
DTEND;TZID=Europe/London:20240728T170000
DTSTAMP:20260422T234227
CREATED:20240319T201137Z
LAST-MODIFIED:20240319T203421Z
UID:7415-1722171600-1722186000@yateleyarchers.org.uk
SUMMARY:Nationals
DESCRIPTION:
URL:https://yateleyarchers.org.uk/programme/nationals-3/
END:VEVENT
BEGIN:VEVENT
DTSTART;TZID=Europe/London:20240804T090000
DTEND;TZID=Europe/London:20240804T130000
DTSTAMP:20260422T234227
CREATED:20240319T201137Z
LAST-MODIFIED:20240916T192805Z
UID:7416-1722762000-1722776400@yateleyarchers.org.uk
SUMMARY:AM York\, Hereford & Bristols
DESCRIPTION:
URL:https://yateleyarchers.org.uk/programme/am-york-hereford-bristols-3/
CATEGORIES:Outdoor Season 2024
END:VEVENT
BEGIN:VEVENT
DTSTART;TZID=Europe/London:20240804T130000
DTEND;TZID=Europe/London:20240804T170000
DTSTAMP:20260422T234227
CREATED:20240319T203436Z
LAST-MODIFIED:20240916T192805Z
UID:7489-1722776400-1722790800@yateleyarchers.org.uk
SUMMARY:PM Nationals
DESCRIPTION:
URL:https://yateleyarchers.org.uk/programme/pm-nationals-12/
CATEGORIES:Outdoor Season 2024
END:VEVENT
BEGIN:VEVENT
DTSTART;TZID=Europe/London:20240811T130000
DTEND;TZID=Europe/London:20240811T170000
DTSTAMP:20260422T234227
CREATED:20240319T201140Z
LAST-MODIFIED:20240916T192805Z
UID:7418-1723381200-1723395600@yateleyarchers.org.uk
SUMMARY:St George\, Albion\, Windsors
DESCRIPTION:
URL:https://yateleyarchers.org.uk/programme/st-george-albion-windsors-4/
CATEGORIES:Outdoor Season 2024
END:VEVENT
BEGIN:VEVENT
DTSTART;TZID=Europe/London:20240818T090000
DTEND;TZID=Europe/London:20240818T170000
DTSTAMP:20260422T234227
CREATED:20240319T203436Z
LAST-MODIFIED:20240916T192805Z
UID:7490-1723971600-1724000400@yateleyarchers.org.uk
SUMMARY:Competition: St George\, Albion\, Windsors
DESCRIPTION:Championship Day
URL:https://yateleyarchers.org.uk/programme/st-george-albion-windsors-6/
CATEGORIES:Outdoor Season 2024
END:VEVENT
BEGIN:VEVENT
DTSTART;TZID=Europe/London:20240825T090000
DTEND;TZID=Europe/London:20240825T130000
DTSTAMP:20260422T234227
CREATED:20240319T201339Z
LAST-MODIFIED:20240916T192804Z
UID:7430-1724576400-1724590800@yateleyarchers.org.uk
SUMMARY:AM Training
DESCRIPTION:
URL:https://yateleyarchers.org.uk/programme/am-training-8/
CATEGORIES:Outdoor Season 2024
END:VEVENT
BEGIN:VEVENT
DTSTART;TZID=Europe/London:20240825T130000
DTEND;TZID=Europe/London:20240825T170000
DTSTAMP:20260422T234227
CREATED:20240319T201140Z
LAST-MODIFIED:20240916T192804Z
UID:7420-1724590800-1724605200@yateleyarchers.org.uk
SUMMARY:Westerns
DESCRIPTION:
URL:https://yateleyarchers.org.uk/programme/westerns-3/
CATEGORIES:Outdoor Season 2024
END:VEVENT
BEGIN:VEVENT
DTSTART;TZID=Europe/London:20240901T090000
DTEND;TZID=Europe/London:20240901T130000
DTSTAMP:20260422T234227
CREATED:20240319T201141Z
LAST-MODIFIED:20240916T192804Z
UID:7421-1725181200-1725195600@yateleyarchers.org.uk
SUMMARY:AM Training
DESCRIPTION:
URL:https://yateleyarchers.org.uk/programme/am-training-5/
CATEGORIES:Outdoor Season 2024
END:VEVENT
END:VCALENDAR