BEGIN:VCALENDAR
VERSION:2.0
PRODID:-//Yateley Archers - ECPv6.15.20//NONSGML v1.0//EN
CALSCALE:GREGORIAN
METHOD:PUBLISH
X-ORIGINAL-URL:https://yateleyarchers.org.uk
X-WR-CALDESC:Events for Yateley Archers
REFRESH-INTERVAL;VALUE=DURATION:PT1H
X-Robots-Tag:noindex
X-PUBLISHED-TTL:PT1H
BEGIN:VTIMEZONE
TZID:Europe/London
BEGIN:DAYLIGHT
TZOFFSETFROM:+0000
TZOFFSETTO:+0100
TZNAME:BST
DTSTART:20230326T010000
END:DAYLIGHT
BEGIN:STANDARD
TZOFFSETFROM:+0100
TZOFFSETTO:+0000
TZNAME:GMT
DTSTART:20231029T010000
END:STANDARD
BEGIN:DAYLIGHT
TZOFFSETFROM:+0000
TZOFFSETTO:+0100
TZNAME:BST
DTSTART:20240331T010000
END:DAYLIGHT
BEGIN:STANDARD
TZOFFSETFROM:+0100
TZOFFSETTO:+0000
TZNAME:GMT
DTSTART:20241027T010000
END:STANDARD
BEGIN:DAYLIGHT
TZOFFSETFROM:+0000
TZOFFSETTO:+0100
TZNAME:BST
DTSTART:20250330T010000
END:DAYLIGHT
BEGIN:STANDARD
TZOFFSETFROM:+0100
TZOFFSETTO:+0000
TZNAME:GMT
DTSTART:20251026T010000
END:STANDARD
END:VTIMEZONE
BEGIN:VEVENT
DTSTART;TZID=Europe/London:20240901T090000
DTEND;TZID=Europe/London:20240901T130000
DTSTAMP:20260421T235128
CREATED:20240319T201141Z
LAST-MODIFIED:20240916T192804Z
UID:7421-1725181200-1725195600@yateleyarchers.org.uk
SUMMARY:AM Training
DESCRIPTION:
URL:https://yateleyarchers.org.uk/programme/am-training-5/
CATEGORIES:Outdoor Season 2024
END:VEVENT
BEGIN:VEVENT
DTSTART;TZID=Europe/London:20240901T130000
DTEND;TZID=Europe/London:20240901T170000
DTSTAMP:20260421T235128
CREATED:20240319T203451Z
LAST-MODIFIED:20240916T192804Z
UID:7491-1725195600-1725210000@yateleyarchers.org.uk
SUMMARY:PM Nationals
DESCRIPTION:
URL:https://yateleyarchers.org.uk/programme/pm-nationals-13/
CATEGORIES:Outdoor Season 2024
END:VEVENT
BEGIN:VEVENT
DTSTART;TZID=Europe/London:20240908T090000
DTEND;TZID=Europe/London:20240908T130000
DTSTAMP:20260421T235128
CREATED:20240319T201217Z
LAST-MODIFIED:20240916T192804Z
UID:7423-1725786000-1725800400@yateleyarchers.org.uk
SUMMARY:AM Training
DESCRIPTION:
URL:https://yateleyarchers.org.uk/programme/am-training-6/
CATEGORIES:Outdoor Season 2024
END:VEVENT
BEGIN:VEVENT
DTSTART;TZID=Europe/London:20240908T130000
DTEND;TZID=Europe/London:20240908T170000
DTSTAMP:20260421T235128
CREATED:20240319T203451Z
LAST-MODIFIED:20240916T192804Z
UID:7492-1725800400-1725814800@yateleyarchers.org.uk
SUMMARY:PM Westerns\, Nationals
DESCRIPTION:
URL:https://yateleyarchers.org.uk/programme/pm-westerns-nationals-3/
CATEGORIES:Outdoor Season 2024
END:VEVENT
BEGIN:VEVENT
DTSTART;TZID=Europe/London:20240915T090000
DTEND;TZID=Europe/London:20240915T130000
DTSTAMP:20260421T235128
CREATED:20240319T201218Z
LAST-MODIFIED:20240916T192804Z
UID:7425-1726390800-1726405200@yateleyarchers.org.uk
SUMMARY:AM Training
DESCRIPTION:
URL:https://yateleyarchers.org.uk/programme/am-training-7/
CATEGORIES:Outdoor Season 2024
END:VEVENT
BEGIN:VEVENT
DTSTART;TZID=Europe/London:20240915T130000
DTEND;TZID=Europe/London:20240915T170000
DTSTAMP:20260421T235128
CREATED:20240319T203506Z
LAST-MODIFIED:20240916T192804Z
UID:7493-1726405200-1726419600@yateleyarchers.org.uk
SUMMARY:PM St George\, Albion\, Windsors
DESCRIPTION:
URL:https://yateleyarchers.org.uk/programme/pm-st-george-albion-windsors-2/
CATEGORIES:Outdoor Season 2024
END:VEVENT
BEGIN:VEVENT
DTSTART;TZID=Europe/London:20240922T130000
DTEND;TZID=Europe/London:20240922T170000
DTSTAMP:20260421T235128
CREATED:20240319T203506Z
LAST-MODIFIED:20240916T192804Z
UID:7494-1727010000-1727024400@yateleyarchers.org.uk
SUMMARY:PM Westerns\, Nationals
DESCRIPTION:
URL:https://yateleyarchers.org.uk/programme/pm-westerns-nationals-4/
CATEGORIES:Outdoor Season 2024
END:VEVENT
BEGIN:VEVENT
DTSTART;TZID=Europe/London:20240929T130000
DTEND;TZID=Europe/London:20240929T170000
DTSTAMP:20260421T235128
CREATED:20240319T201340Z
LAST-MODIFIED:20240916T192732Z
UID:7432-1727614800-1727629200@yateleyarchers.org.uk
SUMMARY:Nationals
DESCRIPTION:
URL:https://yateleyarchers.org.uk/programme/nationals-4/
CATEGORIES:Outdoor Season 2024
END:VEVENT
END:VCALENDAR