BEGIN:VCALENDAR
VERSION:2.0
PRODID:-//Yateley Archers - ECPv6.15.20//NONSGML v1.0//EN
CALSCALE:GREGORIAN
METHOD:PUBLISH
X-WR-CALNAME:Yateley Archers
X-ORIGINAL-URL:https://yateleyarchers.org.uk
X-WR-CALDESC:Events for Yateley Archers
REFRESH-INTERVAL;VALUE=DURATION:PT1H
X-Robots-Tag:noindex
X-PUBLISHED-TTL:PT1H
BEGIN:VTIMEZONE
TZID:Europe/London
BEGIN:DAYLIGHT
TZOFFSETFROM:+0000
TZOFFSETTO:+0100
TZNAME:BST
DTSTART:20240331T010000
END:DAYLIGHT
BEGIN:STANDARD
TZOFFSETFROM:+0100
TZOFFSETTO:+0000
TZNAME:GMT
DTSTART:20241027T010000
END:STANDARD
BEGIN:DAYLIGHT
TZOFFSETFROM:+0000
TZOFFSETTO:+0100
TZNAME:BST
DTSTART:20250330T010000
END:DAYLIGHT
BEGIN:STANDARD
TZOFFSETFROM:+0100
TZOFFSETTO:+0000
TZNAME:GMT
DTSTART:20251026T010000
END:STANDARD
BEGIN:DAYLIGHT
TZOFFSETFROM:+0000
TZOFFSETTO:+0100
TZNAME:BST
DTSTART:20260329T010000
END:DAYLIGHT
BEGIN:STANDARD
TZOFFSETFROM:+0100
TZOFFSETTO:+0000
TZNAME:GMT
DTSTART:20261025T010000
END:STANDARD
END:VTIMEZONE
BEGIN:VEVENT
DTSTART;TZID=Europe/London:20250105T150000
DTEND;TZID=Europe/London:20250105T180000
DTSTAMP:20260419T154816
CREATED:20240916T183803Z
LAST-MODIFIED:20240916T193959Z
UID:9630-1736089200-1736100000@yateleyarchers.org.uk
SUMMARY:Portsmouth
DESCRIPTION:
URL:https://yateleyarchers.org.uk/programme/portsmouth-22/
CATEGORIES:Indoor Season 2024/25
END:VEVENT
BEGIN:VEVENT
DTSTART;TZID=Europe/London:20250112T150000
DTEND;TZID=Europe/London:20250112T180000
DTSTAMP:20260419T154816
CREATED:20240916T183803Z
LAST-MODIFIED:20240916T193959Z
UID:9631-1736694000-1736704800@yateleyarchers.org.uk
SUMMARY:Portsmouth
DESCRIPTION:Postal League Round
URL:https://yateleyarchers.org.uk/programme/portsmouth-23/
CATEGORIES:Indoor Season 2024/25
END:VEVENT
BEGIN:VEVENT
DTSTART;TZID=Europe/London:20250119T150000
DTEND;TZID=Europe/London:20250119T180000
DTSTAMP:20260419T154816
CREATED:20240916T183817Z
LAST-MODIFIED:20240916T193959Z
UID:9632-1737298800-1737309600@yateleyarchers.org.uk
SUMMARY:Vegas
DESCRIPTION:
URL:https://yateleyarchers.org.uk/programme/vegas-5/
CATEGORIES:Indoor Season 2024/25
END:VEVENT
BEGIN:VEVENT
DTSTART;TZID=Europe/London:20250126T150000
DTEND;TZID=Europe/London:20250126T180000
DTSTAMP:20260419T154816
CREATED:20240916T183817Z
LAST-MODIFIED:20240916T193959Z
UID:9633-1737903600-1737914400@yateleyarchers.org.uk
SUMMARY:Portsmouth
DESCRIPTION:Random Pairs
URL:https://yateleyarchers.org.uk/programme/portsmouth-24/
CATEGORIES:Indoor Season 2024/25
END:VEVENT
END:VCALENDAR