BEGIN:VCALENDAR
VERSION:2.0
PRODID:-//Yateley Archers - ECPv6.15.20//NONSGML v1.0//EN
CALSCALE:GREGORIAN
METHOD:PUBLISH
X-WR-CALNAME:Yateley Archers
X-ORIGINAL-URL:https://yateleyarchers.org.uk
X-WR-CALDESC:Events for Yateley Archers
REFRESH-INTERVAL;VALUE=DURATION:PT1H
X-Robots-Tag:noindex
X-PUBLISHED-TTL:PT1H
BEGIN:VTIMEZONE
TZID:Europe/London
BEGIN:DAYLIGHT
TZOFFSETFROM:+0000
TZOFFSETTO:+0100
TZNAME:BST
DTSTART:20230326T010000
END:DAYLIGHT
BEGIN:STANDARD
TZOFFSETFROM:+0100
TZOFFSETTO:+0000
TZNAME:GMT
DTSTART:20231029T010000
END:STANDARD
BEGIN:DAYLIGHT
TZOFFSETFROM:+0000
TZOFFSETTO:+0100
TZNAME:BST
DTSTART:20240331T010000
END:DAYLIGHT
BEGIN:STANDARD
TZOFFSETFROM:+0100
TZOFFSETTO:+0000
TZNAME:GMT
DTSTART:20241027T010000
END:STANDARD
BEGIN:DAYLIGHT
TZOFFSETFROM:+0000
TZOFFSETTO:+0100
TZNAME:BST
DTSTART:20250330T010000
END:DAYLIGHT
BEGIN:STANDARD
TZOFFSETFROM:+0100
TZOFFSETTO:+0000
TZNAME:GMT
DTSTART:20251026T010000
END:STANDARD
END:VTIMEZONE
BEGIN:VEVENT
DTSTART;TZID=Europe/London:20241201T150000
DTEND;TZID=Europe/London:20241201T180000
DTSTAMP:20260419T172331
CREATED:20240916T183747Z
LAST-MODIFIED:20240916T193959Z
UID:9625-1733065200-1733076000@yateleyarchers.org.uk
SUMMARY:18M FITA
DESCRIPTION:
URL:https://yateleyarchers.org.uk/programme/18m-fita-5/
CATEGORIES:Indoor Season 2024/25
END:VEVENT
BEGIN:VEVENT
DTSTART;TZID=Europe/London:20241208T150000
DTEND;TZID=Europe/London:20241208T180000
DTSTAMP:20260419T172331
CREATED:20240916T183747Z
LAST-MODIFIED:20240916T193959Z
UID:9626-1733670000-1733680800@yateleyarchers.org.uk
SUMMARY:Portsmouth
DESCRIPTION:Postal League Round
URL:https://yateleyarchers.org.uk/programme/portsmouth-20/
CATEGORIES:Indoor Season 2024/25
END:VEVENT
BEGIN:VEVENT
DTSTART;TZID=Europe/London:20241215T150000
DTEND;TZID=Europe/London:20241215T180000
DTSTAMP:20260419T172331
CREATED:20240916T183802Z
LAST-MODIFIED:20240916T193959Z
UID:9627-1734274800-1734285600@yateleyarchers.org.uk
SUMMARY:Worcester
DESCRIPTION:Lyne Akres Trophy
URL:https://yateleyarchers.org.uk/programme/worcester-6/
CATEGORIES:Indoor Season 2024/25
END:VEVENT
BEGIN:VEVENT
DTSTART;TZID=Europe/London:20241222T150000
DTEND;TZID=Europe/London:20241222T180000
DTSTAMP:20260419T172331
CREATED:20240916T183802Z
LAST-MODIFIED:20240916T193959Z
UID:9628-1734879600-1734890400@yateleyarchers.org.uk
SUMMARY:Portsmouth
DESCRIPTION:
URL:https://yateleyarchers.org.uk/programme/portsmouth-21/
CATEGORIES:Indoor Season 2024/25
END:VEVENT
BEGIN:VEVENT
DTSTART;TZID=Europe/London:20241229T150000
DTEND;TZID=Europe/London:20241229T180000
DTSTAMP:20260419T172331
CREATED:20240916T183802Z
LAST-MODIFIED:20240916T193959Z
UID:9629-1735484400-1735495200@yateleyarchers.org.uk
SUMMARY:Fun Shoot
DESCRIPTION:
URL:https://yateleyarchers.org.uk/programme/fun-shoot/
CATEGORIES:Indoor Season 2024/25
END:VEVENT
END:VCALENDAR