BEGIN:VCALENDAR
VERSION:2.0
PRODID:-//Yateley Archers - ECPv6.15.20//NONSGML v1.0//EN
CALSCALE:GREGORIAN
METHOD:PUBLISH
X-WR-CALNAME:Yateley Archers
X-ORIGINAL-URL:https://yateleyarchers.org.uk
X-WR-CALDESC:Events for Yateley Archers
REFRESH-INTERVAL;VALUE=DURATION:PT1H
X-Robots-Tag:noindex
X-PUBLISHED-TTL:PT1H
BEGIN:VTIMEZONE
TZID:Europe/London
BEGIN:DAYLIGHT
TZOFFSETFROM:+0000
TZOFFSETTO:+0100
TZNAME:BST
DTSTART:20230326T010000
END:DAYLIGHT
BEGIN:STANDARD
TZOFFSETFROM:+0100
TZOFFSETTO:+0000
TZNAME:GMT
DTSTART:20231029T010000
END:STANDARD
BEGIN:DAYLIGHT
TZOFFSETFROM:+0000
TZOFFSETTO:+0100
TZNAME:BST
DTSTART:20240331T010000
END:DAYLIGHT
BEGIN:STANDARD
TZOFFSETFROM:+0100
TZOFFSETTO:+0000
TZNAME:GMT
DTSTART:20241027T010000
END:STANDARD
BEGIN:DAYLIGHT
TZOFFSETFROM:+0000
TZOFFSETTO:+0100
TZNAME:BST
DTSTART:20250330T010000
END:DAYLIGHT
BEGIN:STANDARD
TZOFFSETFROM:+0100
TZOFFSETTO:+0000
TZNAME:GMT
DTSTART:20251026T010000
END:STANDARD
END:VTIMEZONE
BEGIN:VEVENT
DTSTART;TZID=Europe/London:20241006T150000
DTEND;TZID=Europe/London:20241006T180000
DTSTAMP:20260419T210337
CREATED:20240916T183744Z
LAST-MODIFIED:20240916T194022Z
UID:9617-1728226800-1728237600@yateleyarchers.org.uk
SUMMARY:Portsmouth
DESCRIPTION:First shoot of the season
URL:https://yateleyarchers.org.uk/programme/portsmouth-15/
CATEGORIES:Indoor Season 2024/25
END:VEVENT
BEGIN:VEVENT
DTSTART;TZID=Europe/London:20241013T150000
DTEND;TZID=Europe/London:20241013T180000
DTSTAMP:20260419T210337
CREATED:20240916T183744Z
LAST-MODIFIED:20240916T194022Z
UID:9618-1728831600-1728842400@yateleyarchers.org.uk
SUMMARY:18M FITA
DESCRIPTION:
URL:https://yateleyarchers.org.uk/programme/18m-fita-4/
CATEGORIES:Indoor Season 2024/25
END:VEVENT
BEGIN:VEVENT
DTSTART;TZID=Europe/London:20241020T150000
DTEND;TZID=Europe/London:20241020T180000
DTSTAMP:20260419T210337
CREATED:20240916T183744Z
LAST-MODIFIED:20240916T194022Z
UID:9619-1729436400-1729447200@yateleyarchers.org.uk
SUMMARY:Portsmouth
DESCRIPTION:
URL:https://yateleyarchers.org.uk/programme/portsmouth-16/
CATEGORIES:Indoor Season 2024/25
END:VEVENT
BEGIN:VEVENT
DTSTART;TZID=Europe/London:20241027T150000
DTEND;TZID=Europe/London:20241027T180000
DTSTAMP:20260419T210337
CREATED:20240916T183745Z
LAST-MODIFIED:20240916T194022Z
UID:9620-1730041200-1730052000@yateleyarchers.org.uk
SUMMARY:Worcester
DESCRIPTION:
URL:https://yateleyarchers.org.uk/programme/worcester-5/
CATEGORIES:Indoor Season 2024/25
END:VEVENT
END:VCALENDAR